BEGIN:VCALENDAR
VERSION:2.0
PRODID:-//Australian Chamber Choir - ECPv6.15.19//NONSGML v1.0//EN
CALSCALE:GREGORIAN
METHOD:PUBLISH
X-WR-CALNAME:Australian Chamber Choir
X-ORIGINAL-URL:https://www.auschoir.org
X-WR-CALDESC:Events for Australian Chamber Choir
REFRESH-INTERVAL;VALUE=DURATION:PT1H
X-Robots-Tag:noindex
X-PUBLISHED-TTL:PT1H
BEGIN:VTIMEZONE
TZID:Australia/Melbourne
BEGIN:STANDARD
TZOFFSETFROM:+1100
TZOFFSETTO:+1000
TZNAME:AEST
DTSTART:20110402T160000
END:STANDARD
BEGIN:DAYLIGHT
TZOFFSETFROM:+1000
TZOFFSETTO:+1100
TZNAME:AEDT
DTSTART:20111001T160000
END:DAYLIGHT
BEGIN:STANDARD
TZOFFSETFROM:+1100
TZOFFSETTO:+1000
TZNAME:AEST
DTSTART:20120331T160000
END:STANDARD
BEGIN:DAYLIGHT
TZOFFSETFROM:+1000
TZOFFSETTO:+1100
TZNAME:AEDT
DTSTART:20121006T160000
END:DAYLIGHT
BEGIN:STANDARD
TZOFFSETFROM:+1100
TZOFFSETTO:+1000
TZNAME:AEST
DTSTART:20130406T160000
END:STANDARD
BEGIN:DAYLIGHT
TZOFFSETFROM:+1000
TZOFFSETTO:+1100
TZNAME:AEDT
DTSTART:20131005T160000
END:DAYLIGHT
BEGIN:STANDARD
TZOFFSETFROM:+1100
TZOFFSETTO:+1000
TZNAME:AEST
DTSTART:20140405T160000
END:STANDARD
BEGIN:DAYLIGHT
TZOFFSETFROM:+1000
TZOFFSETTO:+1100
TZNAME:AEDT
DTSTART:20141004T160000
END:DAYLIGHT
BEGIN:STANDARD
TZOFFSETFROM:+1100
TZOFFSETTO:+1000
TZNAME:AEST
DTSTART:20150404T160000
END:STANDARD
BEGIN:DAYLIGHT
TZOFFSETFROM:+1000
TZOFFSETTO:+1100
TZNAME:AEDT
DTSTART:20151003T160000
END:DAYLIGHT
END:VTIMEZONE
BEGIN:VEVENT
DTSTART;TZID=Australia/Melbourne:20141030T190000
DTEND;TZID=Australia/Melbourne:20141030T190000
DTSTAMP:20260421T183412
CREATED:20231114T215659Z
LAST-MODIFIED:20231114T215659Z
UID:10000369-1414695600-1414695600@www.auschoir.org
SUMMARY:Command performance for Dr Norbert Lammert\, President of the German Parliament.TBC
DESCRIPTION:
URL:https://www.auschoir.org/event/command-performance-for-dr-norbert-lammert-president-of-the-german-parliament-tbc/
LOCATION:German Church/ Trinity Lutheran Church\, 22 Parliament Place\, East Melbourne\, East Melbourne\, Australia
CATEGORIES:Local
END:VEVENT
BEGIN:VEVENT
DTSTART;TZID=Australia/Melbourne:20121110T150000
DTEND;TZID=Australia/Melbourne:20121110T150000
DTSTAMP:20260421T183412
CREATED:20231114T220259Z
LAST-MODIFIED:20241104T054656Z
UID:10000478-1352559600-1352559600@www.auschoir.org
SUMMARY:Australian Bach Society IncPraise the Lord all ye Nations
DESCRIPTION:
URL:https://www.auschoir.org/event/australian-bach-society-incpraise-the-lord-all-ye-nationswith-rebecca-humphrey-diderich-cellojohann-sebastian-bach1-suite-for-unaccompanied-cello-no-2-in-d-minor-bwv1008motets-love-den-herr/
LOCATION:German Church/ Trinity Lutheran Church\, 22 Parliament Place\, East Melbourne\, East Melbourne\, Australia
CATEGORIES:Local
END:VEVENT
BEGIN:VEVENT
DTSTART;TZID=Australia/Melbourne:20121103T150000
DTEND;TZID=Australia/Melbourne:20121103T150000
DTSTAMP:20260421T183412
CREATED:20231114T220259Z
LAST-MODIFIED:20241104T054639Z
UID:10000480-1351954800-1351954800@www.auschoir.org
SUMMARY:Australian Bach Society IncSing unto the Lord a New Song
DESCRIPTION:
URL:https://www.auschoir.org/event/australian-bach-society-incsing-unto-the-lord-a-new-songwith-rebecca-humphrey-diderich-cellojohann-sebastian-bach3-motets-completes-bachs-cycle-of-6-motets1-suite-for-unaccompanied-cello/
LOCATION:German Church/ Trinity Lutheran Church\, 22 Parliament Place\, East Melbourne\, East Melbourne\, Australia
CATEGORIES:Local
END:VEVENT
END:VCALENDAR